View In:
ArcMap
ArcGIS Explorer
ArcGIS JavaScript
Google Earth
ArcGIS.com Map
Bing Maps
(terms of use)
View Footprint In:
Google Earth
Service Description:
Map Name: Layers
All Layers and Tables
Layers:
Tables:
Description:
Copyright Text:
Spatial Reference: 3857
Single Fused Map Cache: true
Tile Info:
- Height: 256
- Width: 256
- DPI: 96
- Levels of Detail: (# Levels: 40)
-
Level ID: 0
[Start Tile,
End Tile]
Resolution: 238.12521166709
Scale: 899999
-
Level ID: 1
[Start Tile,
End Tile]
Resolution: 211.666825416984
Scale: 799999
-
Level ID: 2
[Start Tile,
End Tile]
Resolution: 185.208439166878
Scale: 699999
-
Level ID: 3
[Start Tile,
End Tile]
Resolution: 158.750052916773
Scale: 599999
-
Level ID: 4
[Start Tile,
End Tile]
Resolution: 132.291666666667
Scale: 499999
-
Level ID: 5
[Start Tile,
End Tile]
Resolution: 105.833280416561
Scale: 399999
-
Level ID: 6
[Start Tile,
End Tile]
Resolution: 79.374894166455
Scale: 299999
-
Level ID: 7
[Start Tile,
End Tile]
Resolution: 74.0832169164338
Scale: 279999
-
Level ID: 8
[Start Tile,
End Tile]
Resolution: 68.7915396664127
Scale: 259999
-
Level ID: 9
[Start Tile,
End Tile]
Resolution: 63.4998624163915
Scale: 239999
-
Level ID: 10
[Start Tile,
End Tile]
Resolution: 58.2081851663703
Scale: 219999
-
Level ID: 11
[Start Tile,
End Tile]
Resolution: 52.9165079163492
Scale: 199999
-
Level ID: 12
[Start Tile,
End Tile]
Resolution: 47.624830666328
Scale: 179999
-
Level ID: 13
[Start Tile,
End Tile]
Resolution: 42.3331534163068
Scale: 159999
-
Level ID: 14
[Start Tile,
End Tile]
Resolution: 37.0414761662857
Scale: 139999
-
Level ID: 15
[Start Tile,
End Tile]
Resolution: 31.7497989162645
Scale: 119999
-
Level ID: 16
[Start Tile,
End Tile]
Resolution: 25.135202353738
Scale: 94999
-
Level ID: 17
[Start Tile,
End Tile]
Resolution: 22.4893637287275
Scale: 84999
-
Level ID: 18
[Start Tile,
End Tile]
Resolution: 19.8435251037169
Scale: 74999
-
Level ID: 19
[Start Tile,
End Tile]
Resolution: 17.1976864787063
Scale: 64999
-
Level ID: 20
[Start Tile,
End Tile]
Resolution: 14.5518478536957
Scale: 54999
-
Level ID: 21
[Start Tile,
End Tile]
Resolution: 13.2289285411904
Scale: 49999
-
Level ID: 22
[Start Tile,
End Tile]
Resolution: 12.1705930911862
Scale: 45999
-
Level ID: 23
[Start Tile,
End Tile]
Resolution: 11.1122576411819
Scale: 41999
-
Level ID: 24
[Start Tile,
End Tile]
Resolution: 10.5830899161798
Scale: 39999
-
Level ID: 25
[Start Tile,
End Tile]
Resolution: 9.5247544661756
Scale: 35999
-
Level ID: 26
[Start Tile,
End Tile]
Resolution: 8.46641901617137
Scale: 31999
-
Level ID: 27
[Start Tile,
End Tile]
Resolution: 7.93725129116925
Scale: 29999
-
Level ID: 28
[Start Tile,
End Tile]
Resolution: 6.87891584116502
Scale: 25999
-
Level ID: 29
[Start Tile,
End Tile]
Resolution: 5.82058039116078
Scale: 21999
-
Level ID: 30
[Start Tile,
End Tile]
Resolution: 5.29141266615867
Scale: 19999
-
Level ID: 31
[Start Tile,
End Tile]
Resolution: 4.76224494115655
Scale: 17999
-
Level ID: 32
[Start Tile,
End Tile]
Resolution: 4.23307721615443
Scale: 15999
-
Level ID: 33
[Start Tile,
End Tile]
Resolution: 3.70390949115232
Scale: 13999
-
Level ID: 34
[Start Tile,
End Tile]
Resolution: 3.1747417661502
Scale: 11999
-
Level ID: 35
[Start Tile,
End Tile]
Resolution: 2.64557404114808
Scale: 9999
-
Level ID: 36
[Start Tile,
End Tile]
Resolution: 2.11640631614597
Scale: 7999
-
Level ID: 37
[Start Tile,
End Tile]
Resolution: 1.58723859114385
Scale: 5999
-
Level ID: 38
[Start Tile,
End Tile]
Resolution: 1.05807086614173
Scale: 3999
-
Level ID: 39
[Start Tile,
End Tile]
Resolution: 0.528903141139616
Scale: 1999
- Format: PNG8
- Compression Quality: 0
-
Origin:
X: -20037508.342787
Y: 20037508.342787
- Spatial Reference: 3857
Intial Extent:
XMin: 13710466.2969756
YMin: 5112406.88121516
XMax: 13713095.2022335
YMax: 5114352.10177227
Spatial Reference: 3857
Full Extent:
XMin: 13676342.8282674
YMin: 5084383.19777305
XMax: 13739072.5748484
YMax: 5138681.38681591
Spatial Reference: 3857
Units: esriMeters
Supported Image Format Types: PNG24,PNG,JPG,DIB,TIFF,EMF,PS,PDF,GIF,SVG,SVGZ,AI,BMP
Document Info:
- Title: 无标题
- Author: Administrator
- Comments:
- Subject:
- Category:
- Keywords:
- Credits:
Supported Interfaces:
REST
SOAP
Supported Operations:
Export Map
Identify
Find
Generate KML