View In:
ArcMap
ArcGIS Explorer
ArcGIS JavaScript
Google Earth
ArcGIS.com Map
Bing Maps
(terms of use)
View Footprint In:
Google Earth
Service Description: 行政区_镇界
Map Name: Layers
All Layers and Tables
Layers:
Tables:
Description:
Copyright Text:
Spatial Reference: 3857
Single Fused Map Cache: true
Tile Info:
- Height: 256
- Width: 256
- DPI: 96
- Levels of Detail: (# Levels: 10)
-
Level ID: 0
[Start Tile,
End Tile]
Resolution: 132.291931250529
Scale: 500000
-
Level ID: 1
[Start Tile,
End Tile]
Resolution: 66.1459656252646
Scale: 250000
-
Level ID: 2
[Start Tile,
End Tile]
Resolution: 33.0729828126323
Scale: 125000
-
Level ID: 3
[Start Tile,
End Tile]
Resolution: 16.9333672000677
Scale: 64000
-
Level ID: 4
[Start Tile,
End Tile]
Resolution: 8.46668360003387
Scale: 32000
-
Level ID: 5
[Start Tile,
End Tile]
Resolution: 4.23334180001693
Scale: 16000
-
Level ID: 6
[Start Tile,
End Tile]
Resolution: 2.11667090000847
Scale: 8000
-
Level ID: 7
[Start Tile,
End Tile]
Resolution: 1.05833545000423
Scale: 4000
-
Level ID: 8
[Start Tile,
End Tile]
Resolution: 0.529167725002117
Scale: 2000
-
Level ID: 9
[Start Tile,
End Tile]
Resolution: 0.264583862501058
Scale: 1000
- Format: PNG8
- Compression Quality: 0
-
Origin:
X: -20037508.342787
Y: 20037508.342787
- Spatial Reference: 3857
Intial Extent:
XMin: 13670331.8559699
YMin: 5073993.713919
XMax: 13745387.6100234
YMax: 5149049.46797243
Spatial Reference: 3857
Full Extent:
XMin: 13676344.155891
YMin: 5084377.05549226
XMax: 13739058.1586372
YMax: 5138672.95374607
Spatial Reference: 3857
Units: esriMeters
Supported Image Format Types: PNG24,PNG,JPG,DIB,TIFF,EMF,PS,PDF,GIF,SVG,SVGZ,AI,BMP
Document Info:
- Title: 镇界
- Author: Administrator
- Comments:
- Subject:
- Category:
- Keywords:
- Credits:
Supported Interfaces:
REST
SOAP
Supported Operations:
Export Map
Identify
Find
Generate KML